BEGIN:VCALENDAR
VERSION:2.0
PRODID:icalendar-ruby
CALSCALE:GREGORIAN
METHOD:PUBLISH
BEGIN:VEVENT
DTSTAMP:20260424T133135Z
UID:181-233939@severnaparkumc.org
DTSTART:20260425T140000Z
DTEND:20260425T180000Z
CLASS:PUBLIC
CREATED:20260423T131843
DESCRIPTION:SPUMC IS HOSTING AN EARTH DAY FESTIVAL\, organized by Good Neig
 hbors Group\, this coming Saturday\, April 25\, 10am-2pm. Full of live ani
 mals and good food\, it’s a fun and meaningful event that engages people
  and challenges them to learn something new about the world we live in and
  how to better care for the community and our world.
LAST-MODIFIED:20260423T131843
LOCATION:SPUMC
SUMMARY:Earth Day Festival
URL;VALUE=URI:https://severnaparkumc.org/events/earth-day-festival/2026-04-
 25
ATTACH;FILENAME=earth-day-festival-2026.png;FMTTYPE=image/png:https://dq5pw
 pg1q8ru0.cloudfront.net/2026/04/23/17/18/43/1507ebdd-52df-49fa-bd0b-2731e6
 5efd9e/earth-day-festival-2026.png
END:VEVENT
END:VCALENDAR
