BEGIN:VCALENDAR
VERSION:2.0
PRODID:icalendar-ruby
CALSCALE:GREGORIAN
METHOD:PUBLISH
BEGIN:VEVENT
DTSTAMP:20260422T021407Z
UID:143-232953@severnaparkumc.org
DTSTART:20261023T140000Z
DTEND:20261023T150000Z
CLASS:PUBLIC
CREATED:20260421T212423
DESCRIPTION:Friday Covenant Group\nA weekly women's Bible study and discuss
 ion group led by Rev. Lee Ferrell. Meets in the Parlor.\n\nZoom https://u
 s06web.zoom.us/j/86227227422?pwd=YAO7uFElpZNFPIabApUn7f95hpnLZs.1\nMeeting
  ID: 862 2722 7422\nPasscode: peace
LAST-MODIFIED:20260421T212423
LOCATION:SPUMC Parlor
SUMMARY:Friday Covenant Group
URL;VALUE=URI:https://severnaparkumc.org/events/friday-covenant-group/2026-
 10-23
ATTACH;FILENAME=Friday-Covenant-Group.png;FMTTYPE=image/png:https://dq5pwpg
 1q8ru0.cloudfront.net/2026/01/15/14/46/45/f08ab44b-4ce0-425f-82bf-e19c88d0
 49fc/Friday-Covenant-Group.png
END:VEVENT
END:VCALENDAR
